BEGIN:VCALENDAR
METHOD:PUBLISH
PRODID:www-nat-fau-de//Events//DE
VERSION:2.0
BEGIN:VEVENT
SUMMARY:Promotionsvortrag: CD19 CAR T-cell functionality in a 3D strom
 a/leukemia model
UID:040000008200E00074C5B7101A82E00800000000F022D6F4DF9FDC010000000000
 0000001000000050F9DE0D86E5A640A3614F2D6693EF6C
DESCRIPTION:Im Rahmen ihres Promotionsverfahrens hält Frau Janin Ding
 felder Zeit: am Montag\, den 2. März 2026\, um 14.00 Uhr Ort: SR 00.0
 10\, TRC\, Kussmaulallee 12\, Erlangen einen ca. halbstündigen wissen
 schaftlichen Vortrag mit dem Thema: CD19 CAR T-cell functionality in a
  3D stroma/leukemia model Dem Vortrag schließt sich eine Diskussion v
 on 15 Minuten an. Vortrag und Diskussion sind öffentlich. Diesen Verf
 ahrensteilen folgt ein nicht öffentliches Rigorosum von 45 Minuten.
DTSTART:20260302T130000Z
DTEND:20260302T133000Z
LOCATION:SR 00.010\, TRC\, Kussmaulallee 12\, Erlangen
DTSTAMP:20260421T000735Z
END:VEVENT
END:VCALENDAR